BEGIN:VCALENDAR
VERSION:2.0
PRODID:-//wp-events-plugin.com//7.2.3.1//EN
TZID:America/Los_Angeles
X-WR-TIMEZONE:America/Los_Angeles
BEGIN:VEVENT
UID:2176@antelopevalley.com
DTSTART;TZID=America/Los_Angeles:20191231T180000
DTEND;TZID=America/Los_Angeles:20191231T180000
DTSTAMP:20250731T214716Z
URL:https://www.antelopevalley.com/events/new-years-eve-celebration-at-big
 -shotz-bar-grill/
SUMMARY:New Year's Eve Celebration at Big Shotz Bar & Grill
DESCRIPTION:Time yet again for another epic New Year's party! On stage will
  be the always terrific THE FULCO EXPERIENCE. There will also be an additi
 onal outdoor covered patio created for this event.
ATTACH;FMTTYPE=image/jpeg:https://www.antelopevalley.com/wp-content/upload
 s/2025/07/event_2367.jpg
END:VEVENT
BEGIN:VTIMEZONE
TZID:America/Los_Angeles
X-LIC-LOCATION:America/Los_Angeles
BEGIN:STANDARD
DTSTART:20191103T010000
TZOFFSETFROM:-0700
TZOFFSETTO:-0800
TZNAME:PST
END:STANDARD
END:VTIMEZONE
END:VCALENDAR